BEGIN:VCALENDAR
VERSION:2.0
PRODID:-//Singapore Institute of International Affairs - ECPv6.15.20//NONSGML v1.0//EN
CALSCALE:GREGORIAN
METHOD:PUBLISH
X-WR-CALNAME:Singapore Institute of International Affairs
X-ORIGINAL-URL:https://siiaonline.org
X-WR-CALDESC:Events for Singapore Institute of International Affairs
REFRESH-INTERVAL;VALUE=DURATION:PT1H
X-Robots-Tag:noindex
X-PUBLISHED-TTL:PT1H
BEGIN:VTIMEZONE
TZID:Asia/Shanghai
BEGIN:STANDARD
TZOFFSETFROM:+0800
TZOFFSETTO:+0800
TZNAME:CST
DTSTART:20250101T000000
END:STANDARD
END:VTIMEZONE
BEGIN:VEVENT
DTSTART;TZID=Asia/Shanghai:20260421T173000
DTEND;TZID=Asia/Shanghai:20260421T200000
DTSTAMP:20260421T035148
CREATED:20260416T082636Z
LAST-MODIFIED:20260416T082636Z
UID:15658-1776792600-1776801600@siiaonline.org
SUMMARY:[ELN Exclusive] Heat & Light with Mdm Halimah Yacob
DESCRIPTION:Our new ELN series titled “Heat & Light“\, engages with complex and contested issues in international affairs. For our inaugural session\, “Gaza – The Limits of Consensus”\, we are honoured to host Mdm Halimah Yacob. \nIn this exclusive\, closed-door discussion\, we will explore the challenges of forging international consensus on the Gaza conflict\, examining the tensions between political\, humanitarian\, and geopolitical perspectives amid an increasingly divided global landscape. This session will also reflect on what responsible leadership looks like in such moments\, where clarity of judgment is required even when consensus is not. \nSpeaker:\nMdm. Halimah Yacob\, Chancellor of the Singapore University of Social Sciences; former President of the Republic of Singapore \nFacilitator:\nMr. Simon Tay\, Chairman\, Singapore Institute of International Affairs (SIIA) \nThis event is exclusive to ELN participants only.
URL:https://siiaonline.org/event/eln-exclusive-heat-light-with-mdm-halimah-yacob/
LOCATION:SIIA\, 60A Orchard Road\, #04-03 (Level 4M)\, Tower 1\, The Atrium @Orchard International Involvement Hub\, Singapore\, 238890
CATEGORIES:SIIA Talks
ATTACH;FMTTYPE=image/jpeg:https://siiaonline.org/wp-content/uploads/2026/04/pexels-ahmed-akacha-3313934-8876109-scaled.jpg
END:VEVENT
END:VCALENDAR