BEGIN:VCALENDAR
VERSION:2.0
PRODID:-//Singapore Institute of International Affairs - ECPv6.15.20//NONSGML v1.0//EN
CALSCALE:GREGORIAN
METHOD:PUBLISH
X-ORIGINAL-URL:https://siiaonline.org
X-WR-CALDESC:Events for Singapore Institute of International Affairs
REFRESH-INTERVAL;VALUE=DURATION:PT1H
X-Robots-Tag:noindex
X-PUBLISHED-TTL:PT1H
BEGIN:VTIMEZONE
TZID:Asia/Shanghai
BEGIN:STANDARD
TZOFFSETFROM:+0800
TZOFFSETTO:+0800
TZNAME:CST
DTSTART:20250101T000000
END:STANDARD
END:VTIMEZONE
BEGIN:VEVENT
DTSTART;TZID=Asia/Shanghai:20260623T173000
DTEND;TZID=Asia/Shanghai:20260623T190000
DTSTAMP:20260419T221929
CREATED:20260306T062612Z
LAST-MODIFIED:20260416T035622Z
UID:15516-1782235800-1782241200@siiaonline.org
SUMMARY:SIIA Talk | U.S. Tariff Turbulence: Legal Uncertainty in Washington and What It Means for ASEAN Business
DESCRIPTION:U.S. tariff policy is once again in flux. Recent court rulings and legal challenges have cast fresh doubt on the legal foundations of major trade measures. In February\, the Trump administration introduced a temporary 15% global import tariff under Section 122 of the Trade Act of 1974\, but it is not clear if these will last past July. Key questions remain over whether tariffs could rise further under other laws and the legal basis that sustain them. \nThis uncertainty is prompting businesses and governments to reassess the direction\, durability\, and credibility of U.S. trade policy. For ASEAN economies deeply integrated into global supply chains\, the stakes are especially high as trade policy becomes more entangled with geopolitics\, energy market volatility\, and wider economic pressures. If tariffs can be reworked under new legal justifications\, what does that mean for the reliability of established trade arrangements with Washington? \nSpeakers:\nMr. Alex Feldman\, Partner\, The Asia Group\nMs. Elizabeth Chelliah\, Principal Trade Consultant\, CFOTI\, Singapore Business Federation (SBF); former Principal Trade Specialist (PTS)\, Ministry of Trade and Industry (MTI)\, Republic of Singapore  \nModerator: Mr. Simon Tay\, Chairman\, Singapore Institute of International Affairs (SIIA) \nProgramme \n \n 
URL:https://siiaonline.org/event/us-tariff-turbulence-legal-uncertainty-in-washington-and-what-it-means-for-asean-business/
LOCATION:SIIA\, 60A Orchard Road\, #04-03 (Level 4M)\, Tower 1\, The Atrium @Orchard International Involvement Hub\, Singapore\, 238890
CATEGORIES:SIIA Talks
ATTACH;FMTTYPE=image/jpeg:https://siiaonline.org/wp-content/uploads/2026/02/US-Tariff-Talk-Image-scaled.jpg
END:VEVENT
END:VCALENDAR